{
 "serviceDescription": "Usluga prezentujaca dane podkladowe dla SOPO, cachowana",
 "mapName": "Layers",
 "description": "",
 "copyrightText": "",
 "layers": [
  {
   "id": 0,
   "name": "Podział administracyjny",
   "parentLayerId": -1,
   "defaultVisibility": true,
   "subLayerIds": [
    1,
    2,
    3
   ]
  },
  {
   "id": 1,
   "name": "Gminy",
   "parentLayerId": 0,
   "defaultVisibility": true,
   "subLayerIds": null
  },
  {
   "id": 2,
   "name": "Powiaty",
   "parentLayerId": 0,
   "defaultVisibility": true,
   "subLayerIds": null
  },
  {
   "id": 3,
   "name": "Województwa",
   "parentLayerId": 0,
   "defaultVisibility": true,
   "subLayerIds": null
  },
  {
   "id": 4,
   "name": "Hydrografia",
   "parentLayerId": -1,
   "defaultVisibility": false,
   "subLayerIds": [
    5,
    9
   ]
  },
  {
   "id": 5,
   "name": "Jeziora",
   "parentLayerId": 4,
   "defaultVisibility": true,
   "subLayerIds": [
    6,
    7,
    8
   ]
  },
  {
   "id": 6,
   "name": "Jeziora (powyżej 250 ha)",
   "parentLayerId": 5,
   "defaultVisibility": true,
   "subLayerIds": null
  },
  {
   "id": 7,
   "name": "Jeziora (powyżej 25 ha)",
   "parentLayerId": 5,
   "defaultVisibility": true,
   "subLayerIds": null
  },
  {
   "id": 8,
   "name": "Jeziora",
   "parentLayerId": 5,
   "defaultVisibility": true,
   "subLayerIds": null
  },
  {
   "id": 9,
   "name": "Rzeki",
   "parentLayerId": 4,
   "defaultVisibility": true,
   "subLayerIds": [
    10,
    11,
    12
   ]
  },
  {
   "id": 10,
   "name": "Rzeki (powyżej 100 km)",
   "parentLayerId": 9,
   "defaultVisibility": true,
   "subLayerIds": null
  },
  {
   "id": 11,
   "name": "Rzeki (powyżej 50 km)",
   "parentLayerId": 9,
   "defaultVisibility": true,
   "subLayerIds": null
  },
  {
   "id": 12,
   "name": "Rzeki",
   "parentLayerId": 9,
   "defaultVisibility": true,
   "subLayerIds": null
  },
  {
   "id": 13,
   "name": "Arkusze 1:10000",
   "parentLayerId": -1,
   "defaultVisibility": false,
   "subLayerIds": null
  },
  {
   "id": 14,
   "name": "Tło",
   "parentLayerId": -1,
   "defaultVisibility": true,
   "subLayerIds": null
  },
  {
   "id": 15,
   "name": "GIS_PIGR.TOPO50",
   "parentLayerId": -1,
   "defaultVisibility": true,
   "subLayerIds": null
  },
  {
   "id": 16,
   "name": "GIS_PIGR.TOPO10",
   "parentLayerId": -1,
   "defaultVisibility": true,
   "subLayerIds": null
  }
 ],
 "spatialReference": {
  "wkt": "PROJCS[\"PUWG_92\",GEOGCS[\"GCS_ETRF_1989\",DATUM[\"D_ETRF_1989\",SPHEROID[\"WGS_1984\",6378137.0,298.257223563]],PRIMEM[\"Greenwich\",0.0],UNIT[\"Degree\",0.0174532925199433]],PROJECTION[\"Gauss_Kruger\"],PARAMETER[\"False_Easting\",500000.0],PARAMETER[\"False_Northing\",-5300000.0],PARAMETER[\"Central_Meridian\",19.0],PARAMETER[\"Scale_Factor\",0.9993],PARAMETER[\"Latitude_Of_Origin\",0.0],UNIT[\"Meter\",1.0]]"
 },
 "singleFusedMapCache": true,
 "tileInfo": {
  "rows": 512,
  "cols": 512,
  "dpi": 96,
  "format": "JPEG",
  "compressionQuality": 75,
  "origin": {
   "x": -5119200,
   "y": 4695100
  },
  "spatialReference": {
   "wkt": "PROJCS[\"PUWG_92\",GEOGCS[\"GCS_ETRF_1989\",DATUM[\"D_ETRF_1989\",SPHEROID[\"WGS_1984\",6378137.0,298.257223563]],PRIMEM[\"Greenwich\",0.0],UNIT[\"Degree\",0.0174532925199433]],PROJECTION[\"Gauss_Kruger\"],PARAMETER[\"False_Easting\",500000.0],PARAMETER[\"False_Northing\",-5300000.0],PARAMETER[\"Central_Meridian\",19.0],PARAMETER[\"Scale_Factor\",0.9993],PARAMETER[\"Latitude_Of_Origin\",0.0],UNIT[\"Meter\",1.0]]"
  },
  "lods": [
   {
    "level": 0,
    "resolution": 1322.9193125052918,
    "scale": 5000000
   },
   {
    "level": 1,
    "resolution": 661.4596562526459,
    "scale": 2500000
   },
   {
    "level": 2,
    "resolution": 264.5838625010584,
    "scale": 1000000
   },
   {
    "level": 3,
    "resolution": 132.2919312505292,
    "scale": 500000
   },
   {
    "level": 4,
    "resolution": 66.1459656252646,
    "scale": 250000
   },
   {
    "level": 5,
    "resolution": 26.458386250105836,
    "scale": 100000
   },
   {
    "level": 6,
    "resolution": 19.843789687579378,
    "scale": 75000
   },
   {
    "level": 7,
    "resolution": 13.229193125052918,
    "scale": 50000
   },
   {
    "level": 8,
    "resolution": 6.614596562526459,
    "scale": 25000
   },
   {
    "level": 9,
    "resolution": 3.3072982812632294,
    "scale": 12500
   },
   {
    "level": 10,
    "resolution": 2.6458386250105836,
    "scale": 10000
   },
   {
    "level": 11,
    "resolution": 1.9843789687579376,
    "scale": 7500
   },
   {
    "level": 12,
    "resolution": 1.3229193125052918,
    "scale": 5000
   }
  ]
 },
 "initialExtent": {
  "xmin": 636236.4739406598,
  "ymin": 229215.43002984638,
  "xmax": 641202.0005154628,
  "ymax": 232663.3302923136,
  "spatialReference": {
   "wkt": "PROJCS[\"PUWG_92\",GEOGCS[\"GCS_ETRF_1989\",DATUM[\"D_ETRF_1989\",SPHEROID[\"WGS_1984\",6378137.0,298.257223563]],PRIMEM[\"Greenwich\",0.0],UNIT[\"Degree\",0.0174532925199433]],PROJECTION[\"Gauss_Kruger\"],PARAMETER[\"False_Easting\",500000.0],PARAMETER[\"False_Northing\",-5300000.0],PARAMETER[\"Central_Meridian\",19.0],PARAMETER[\"Scale_Factor\",0.9993],PARAMETER[\"Latitude_Of_Origin\",0.0],UNIT[\"Meter\",1.0]]"
  }
 },
 "fullExtent": {
  "xmin": 124558.32004999997,
  "ymin": 31218.019743625424,
  "xmax": 973958.9589500001,
  "ymax": 876106.5702563745,
  "spatialReference": {
   "wkt": "PROJCS[\"PUWG_92\",GEOGCS[\"GCS_ETRF_1989\",DATUM[\"D_ETRF_1989\",SPHEROID[\"WGS_1984\",6378137.0,298.257223563]],PRIMEM[\"Greenwich\",0.0],UNIT[\"Degree\",0.0174532925199433]],PROJECTION[\"Gauss_Kruger\"],PARAMETER[\"False_Easting\",500000.0],PARAMETER[\"False_Northing\",-5300000.0],PARAMETER[\"Central_Meridian\",19.0],PARAMETER[\"Scale_Factor\",0.9993],PARAMETER[\"Latitude_Of_Origin\",0.0],UNIT[\"Meter\",1.0]]"
  }
 },
 "units": "esriMeters",
 "supportedImageFormatTypes": "PNG24,PNG,JPG,DIB,TIFF,EMF,PS,PDF,GIF,SVG,SVGZ,AI",
 "documentInfo": {
  "Title": "sopoview-gisserver3",
  "Author": "mada",
  "Comments": "",
  "Subject": "",
  "Category": "",
  "Keywords": ""
 }
}
