View In:
ArcMap
ArcGIS Explorer
ArcGIS JavaScript
Google Earth
View Footprint In:
Google Earth
Service Description: Usluga prezentujaca dane podkladowe dla SOPO, cachowana
Map Name: Layers
Layers:
Description:
Copyright Text:
Spatial Reference:
PROJCS["PUWG_92",GEOGCS["GCS_ETRF_1989",DATUM["D_ETRF_1989",SPHEROID["WGS_1984",6378137.0,298.257223563]],PRIMEM["Greenwich",0.0],UNIT["Degree",0.0174532925199433]],PROJECTION["Gauss_Kruger"],PARAMETER["False_Easting",500000.0],PARAMETER["False_Northing",-5300000.0],PARAMETER["Central_Meridian",19.0],PARAMETER["Scale_Factor",0.9993],PARAMETER["Latitude_Of_Origin",0.0],UNIT["Meter",1.0]]
Single Fused Map Cache: true
Tile Info:
- Height: 512
- Width: 512
- DPI: 96
-
Levels of Detail: (# Levels: 13)
-
Level ID: 0
[
Start Tile,
End Tile
]
Resolution: 1322.9193125052918
Scale: 5000000.0
-
Level ID: 1
[
Start Tile,
End Tile
]
Resolution: 661.4596562526459
Scale: 2500000.0
-
Level ID: 2
[
Start Tile,
End Tile
]
Resolution: 264.5838625010584
Scale: 1000000.0
-
Level ID: 3
[
Start Tile,
End Tile
]
Resolution: 132.2919312505292
Scale: 500000.0
-
Level ID: 4
[
Start Tile,
End Tile
]
Resolution: 66.1459656252646
Scale: 250000.0
-
Level ID: 5
[
Start Tile,
End Tile
]
Resolution: 26.458386250105836
Scale: 100000.0
-
Level ID: 6
[
Start Tile,
End Tile
]
Resolution: 19.843789687579378
Scale: 75000.0
-
Level ID: 7
[
Start Tile,
End Tile
]
Resolution: 13.229193125052918
Scale: 50000.0
-
Level ID: 8
[
Start Tile,
End Tile
]
Resolution: 6.614596562526459
Scale: 25000.0
-
Level ID: 9
[
Start Tile,
End Tile
]
Resolution: 3.3072982812632294
Scale: 12500.0
-
Level ID: 10
[
Start Tile,
End Tile
]
Resolution: 2.6458386250105836
Scale: 10000.0
-
Level ID: 11
[
Start Tile,
End Tile
]
Resolution: 1.9843789687579376
Scale: 7500.0
-
Level ID: 12
[
Start Tile,
End Tile
]
Resolution: 1.3229193125052918
Scale: 5000.0
- Format: JPEG
- Compression Quality: 75
-
Origin:
X: -5119200.0
Y: 4695100.0
-
Spatial Reference:
PROJCS["PUWG_92",GEOGCS["GCS_ETRF_1989",DATUM["D_ETRF_1989",SPHEROID["WGS_1984",6378137.0,298.257223563]],PRIMEM["Greenwich",0.0],UNIT["Degree",0.0174532925199433]],PROJECTION["Gauss_Kruger"],PARAMETER["False_Easting",500000.0],PARAMETER["False_Northing",-5300000.0],PARAMETER["Central_Meridian",19.0],PARAMETER["Scale_Factor",0.9993],PARAMETER["Latitude_Of_Origin",0.0],UNIT["Meter",1.0]]
Initial Extent:
XMin: 636236.4739406598
YMin: 229215.43002984638
XMax: 641202.0005154628
YMax: 232663.3302923136
Spatial Reference:
PROJCS["PUWG_92",GEOGCS["GCS_ETRF_1989",DATUM["D_ETRF_1989",SPHEROID["WGS_1984",6378137.0,298.257223563]],PRIMEM["Greenwich",0.0],UNIT["Degree",0.0174532925199433]],PROJECTION["Gauss_Kruger"],PARAMETER["False_Easting",500000.0],PARAMETER["False_Northing",-5300000.0],PARAMETER["Central_Meridian",19.0],PARAMETER["Scale_Factor",0.9993],PARAMETER["Latitude_Of_Origin",0.0],UNIT["Meter",1.0]]
Full Extent:
XMin: 124558.32004999997
YMin: 31218.019743625424
XMax: 973958.9589500001
YMax: 876106.5702563745
Spatial Reference:
PROJCS["PUWG_92",GEOGCS["GCS_ETRF_1989",DATUM["D_ETRF_1989",SPHEROID["WGS_1984",6378137.0,298.257223563]],PRIMEM["Greenwich",0.0],UNIT["Degree",0.0174532925199433]],PROJECTION["Gauss_Kruger"],PARAMETER["False_Easting",500000.0],PARAMETER["False_Northing",-5300000.0],PARAMETER["Central_Meridian",19.0],PARAMETER["Scale_Factor",0.9993],PARAMETER["Latitude_Of_Origin",0.0],UNIT["Meter",1.0]]
Units: esriMeters
Supported Image Format Types: PNG24,PNG,JPG,DIB,TIFF,EMF,PS,PDF,GIF,SVG,SVGZ,AI
Document Info:
- Title: sopoview-gisserver3
- Author: mada
- Comments:
- Subject:
- Category:
- Keywords:
Supported Interfaces:
REST
SOAP
Supported Operations:
Export Map
Identify
Find